BEGIN:VCALENDAR
VERSION:2.0
PRODID:-//WV District 7 - ECPv6.15.18//NONSGML v1.0//EN
CALSCALE:GREGORIAN
METHOD:PUBLISH
X-WR-CALNAME:WV District 7
X-ORIGINAL-URL:https://www.wvaadistrict7.org
X-WR-CALDESC:Events for WV District 7
REFRESH-INTERVAL;VALUE=DURATION:PT1H
X-Robots-Tag:noindex
X-PUBLISHED-TTL:PT1H
BEGIN:VTIMEZONE
TZID:America/New_York
BEGIN:DAYLIGHT
TZOFFSETFROM:-0500
TZOFFSETTO:-0400
TZNAME:EDT
DTSTART:20210314T070000
END:DAYLIGHT
BEGIN:STANDARD
TZOFFSETFROM:-0400
TZOFFSETTO:-0500
TZNAME:EST
DTSTART:20211107T060000
END:STANDARD
BEGIN:DAYLIGHT
TZOFFSETFROM:-0500
TZOFFSETTO:-0400
TZNAME:EDT
DTSTART:20220313T070000
END:DAYLIGHT
BEGIN:STANDARD
TZOFFSETFROM:-0400
TZOFFSETTO:-0500
TZNAME:EST
DTSTART:20221106T060000
END:STANDARD
BEGIN:DAYLIGHT
TZOFFSETFROM:-0500
TZOFFSETTO:-0400
TZNAME:EDT
DTSTART:20230312T070000
END:DAYLIGHT
BEGIN:STANDARD
TZOFFSETFROM:-0400
TZOFFSETTO:-0500
TZNAME:EST
DTSTART:20231105T060000
END:STANDARD
BEGIN:DAYLIGHT
TZOFFSETFROM:-0500
TZOFFSETTO:-0400
TZNAME:EDT
DTSTART:20240310T070000
END:DAYLIGHT
BEGIN:STANDARD
TZOFFSETFROM:-0400
TZOFFSETTO:-0500
TZNAME:EST
DTSTART:20241103T060000
END:STANDARD
BEGIN:DAYLIGHT
TZOFFSETFROM:-0500
TZOFFSETTO:-0400
TZNAME:EDT
DTSTART:20250309T070000
END:DAYLIGHT
BEGIN:STANDARD
TZOFFSETFROM:-0400
TZOFFSETTO:-0500
TZNAME:EST
DTSTART:20251102T060000
END:STANDARD
BEGIN:DAYLIGHT
TZOFFSETFROM:-0500
TZOFFSETTO:-0400
TZNAME:EDT
DTSTART:20260308T070000
END:DAYLIGHT
BEGIN:STANDARD
TZOFFSETFROM:-0400
TZOFFSETTO:-0500
TZNAME:EST
DTSTART:20261101T060000
END:STANDARD
BEGIN:DAYLIGHT
TZOFFSETFROM:-0500
TZOFFSETTO:-0400
TZNAME:EDT
DTSTART:20270314T070000
END:DAYLIGHT
BEGIN:STANDARD
TZOFFSETFROM:-0400
TZOFFSETTO:-0500
TZNAME:EST
DTSTART:20271107T060000
END:STANDARD
END:VTIMEZONE
BEGIN:VEVENT
DTSTART;TZID=America/New_York:20260222T140000
DTEND;TZID=America/New_York:20260222T153000
DTSTAMP:20260423T193337
CREATED:20251219T214221Z
LAST-MODIFIED:20260123T203912Z
UID:3953-1771768800-1771774200@www.wvaadistrict7.org
SUMMARY:District Meeting
DESCRIPTION:Hosted by Harmony Group
URL:https://www.wvaadistrict7.org/event/district-meeting-8/
LOCATION:First United Methodist Church in Clarksburg\, 170 W Pike St\, Clarksburg\, WV
END:VEVENT
BEGIN:VEVENT
DTSTART;TZID=America/New_York:20260125T140000
DTEND;TZID=America/New_York:20260125T153000
DTSTAMP:20260423T193337
CREATED:20251219T213318Z
LAST-MODIFIED:20260123T203544Z
UID:3947-1769349600-1769355000@www.wvaadistrict7.org
SUMMARY:District Meeting
DESCRIPTION:On Zoom due to an impending snow storm. \n 
URL:https://www.wvaadistrict7.org/event/district-meeting-4/
LOCATION:Zoom
END:VEVENT
BEGIN:VEVENT
DTSTART;TZID=America/New_York:20251214T140000
DTEND;TZID=America/New_York:20251214T153000
DTSTAMP:20260423T193337
CREATED:20250524T171755Z
LAST-MODIFIED:20250902T001923Z
UID:3798-1765720800-1765726200@www.wvaadistrict7.org
SUMMARY:District Meeting
DESCRIPTION:Hosted by Harmony Group.
URL:https://www.wvaadistrict7.org/event/district-meeting-7/
LOCATION:First United Methodist Church in Clarksburg\, 170 W Pike St\, Clarksburg\, WV
END:VEVENT
BEGIN:VEVENT
DTSTART;TZID=America/New_York:20251205T180000
DTEND;TZID=America/New_York:20251205T210000
DTSTAMP:20260423T193337
CREATED:20251018T152812Z
LAST-MODIFIED:20251030T154809Z
UID:3901-1764957600-1764968400@www.wvaadistrict7.org
SUMMARY:Upshur Uphill Christmas Dinner
DESCRIPTION:Download the flyer here. \nUpshur Upill Christmas Dinner flyer 2025
URL:https://www.wvaadistrict7.org/event/upshur-uphill-christmas-dinner-3/
LOCATION:Chapel Hill United Methodist Church\, 88 South Kanawha Street\, Buckhannon\, WV
END:VEVENT
BEGIN:VEVENT
DTSTART;TZID=America/New_York:20251115T170000
DTEND;TZID=America/New_York:20251115T203000
DTSTAMP:20260423T193337
CREATED:20250828T172913Z
LAST-MODIFIED:20251030T154304Z
UID:3880-1763226000-1763238600@www.wvaadistrict7.org
SUMMARY:Elkins Group's 80th Anniversary Party
DESCRIPTION:Download the flyer here. \n80th Anniversary Party Flyer - FINAL\n 
URL:https://www.wvaadistrict7.org/event/elkins-groups-80th-anniversary-party/
LOCATION:First United Methodist Church in Elkins\, 315 Kerens Ave.\, Elkins\, WV\, 26241\, United States
END:VEVENT
BEGIN:VEVENT
DTSTART;TZID=America/New_York:20251026T140000
DTEND;TZID=America/New_York:20251026T153000
DTSTAMP:20260423T193337
CREATED:20250524T171659Z
LAST-MODIFIED:20250902T001816Z
UID:3796-1761487200-1761492600@www.wvaadistrict7.org
SUMMARY:District Meeting
DESCRIPTION:Hosted by Central WV Wednesday Night Group.
URL:https://www.wvaadistrict7.org/event/district-meeting-6/
LOCATION:St. Mark’s Lutheran Church\, 1766 Milford Street\, Clarksburg\, WV\, 26301
END:VEVENT
BEGIN:VEVENT
DTSTART;TZID=America/New_York:20251004T180000
DTEND;TZID=America/New_York:20251004T210000
DTSTAMP:20260423T193337
CREATED:20250524T172649Z
LAST-MODIFIED:20250524T172649Z
UID:3807-1759600800-1759611600@www.wvaadistrict7.org
SUMMARY:Dysfunction Junction Bonfire
DESCRIPTION:Bonfire Flyer for Summer 2025\nClick title for more information – including flyer.
URL:https://www.wvaadistrict7.org/event/dysfunction-junction-bonfire-4/
LOCATION:Dysfunction Junction\, 28844 Seneca Trail\, Valley Head\, WV\, 26294\, United States
END:VEVENT
BEGIN:VEVENT
DTSTART;TZID=America/New_York:20250926T150000
DTEND;TZID=America/New_York:20250928T170000
DTSTAMP:20260423T193337
CREATED:20250524T170601Z
LAST-MODIFIED:20250524T170601Z
UID:3784-1758898800-1759078800@www.wvaadistrict7.org
SUMMARY:Area 73 Fall Assembly
DESCRIPTION:2025 Fall Assembly Flyer\nClick title for more information – including flyer.
URL:https://www.wvaadistrict7.org/event/area-73-fall-assembly-3/
LOCATION:Country Inn and Suites\, 2120 Harper Road\, Beckley\, WV
END:VEVENT
BEGIN:VEVENT
DTSTART;TZID=America/New_York:20250921T140000
DTEND;TZID=America/New_York:20250921T153000
DTSTAMP:20260423T193337
CREATED:20250524T171508Z
LAST-MODIFIED:20250902T001601Z
UID:3794-1758463200-1758468600@www.wvaadistrict7.org
SUMMARY:District Meeting
DESCRIPTION:Hosted by Elkins Group.
URL:https://www.wvaadistrict7.org/event/district-meeting-5/
LOCATION:Grace Episcopal Church\, 212 John St.\, Elkins\, WV\, 26241\, United States
END:VEVENT
BEGIN:VEVENT
DTSTART;TZID=America/New_York:20250906T180000
DTEND;TZID=America/New_York:20250906T210000
DTSTAMP:20260423T193337
CREATED:20250524T172358Z
LAST-MODIFIED:20250524T172417Z
UID:3804-1757181600-1757192400@www.wvaadistrict7.org
SUMMARY:Dysfunction Junction Bonfire
DESCRIPTION:Bonfire Flyer for Summer 2025\nClick title for more information – including flyer.
URL:https://www.wvaadistrict7.org/event/dysfunction-junction/
LOCATION:Dysfunction Junction\, 28844 Seneca Trail\, Valley Head\, WV\, 26294\, United States
END:VEVENT
BEGIN:VEVENT
DTSTART;TZID=America/New_York:20250831T140000
DTEND;TZID=America/New_York:20250831T153000
DTSTAMP:20260423T193337
CREATED:20250524T171224Z
LAST-MODIFIED:20250524T171224Z
UID:3789-1756648800-1756654200@www.wvaadistrict7.org
SUMMARY:District Meeting
DESCRIPTION:Hosted by Step into Sobriety Group.
URL:https://www.wvaadistrict7.org/event/district-meeting-3/
LOCATION:Seventh Day Baptist Church\, 171 East Main Street\, Salem\, WV\, 26426\, United States
END:VEVENT
BEGIN:VEVENT
DTSTART;TZID=America/New_York:20250809T140000
DTEND;TZID=America/New_York:20250809T160000
DTSTAMP:20260423T193337
CREATED:20250722T164354Z
LAST-MODIFIED:20250801T003718Z
UID:3863-1754748000-1754755200@www.wvaadistrict7.org
SUMMARY:District 7 46th Anniversary of Reactivation
DESCRIPTION:Dist 7 Anniversary flyer final\nClick title above for more information. \nMenu: Taco Bar \nSpeaker: Bill A.\, Area 73 Delegate \nPlease bring a dessert if you are able.
URL:https://www.wvaadistrict7.org/event/district-7-46th-anniversary-of-reactivation/
LOCATION:Vincent Memorial Church\, 400 Indiana ave\, nutterfort wv\, Nutterfort\, WV
END:VEVENT
BEGIN:VEVENT
DTSTART;TZID=America/New_York:20250803T140000
DTEND;TZID=America/New_York:20250803T153000
DTSTAMP:20260423T193337
CREATED:20250524T170821Z
LAST-MODIFIED:20250711T192605Z
UID:3787-1754229600-1754235000@www.wvaadistrict7.org
SUMMARY:District Meeting
DESCRIPTION:Hosted by Upshur Uphill.
URL:https://www.wvaadistrict7.org/event/district-meeting-2/
LOCATION:Chapel Hill United Methodist Church\, 88 South Kanawha Street\, Buckhannon\, WV
END:VEVENT
BEGIN:VEVENT
DTSTART;TZID=America/New_York:20250802T180000
DTEND;TZID=America/New_York:20250802T210000
DTSTAMP:20260423T193337
CREATED:20250524T172126Z
LAST-MODIFIED:20250524T172126Z
UID:3802-1754157600-1754168400@www.wvaadistrict7.org
SUMMARY:Dysfunction Junction Bonfire
DESCRIPTION:Bonfire Flyer for Summer 2025\nClick title for more information – including flyer.
URL:https://www.wvaadistrict7.org/event/dysfunction-junction-bonfire-3/
LOCATION:Dysfunction Junction\, 28844 Seneca Trail\, Valley Head\, WV\, 26294\, United States
END:VEVENT
BEGIN:VEVENT
DTSTART;TZID=America/New_York:20250725T080000
DTEND;TZID=America/New_York:20250727T170000
DTSTAMP:20260423T193337
CREATED:20250524T165938Z
LAST-MODIFIED:20250524T165938Z
UID:3780-1753430400-1753635600@www.wvaadistrict7.org
SUMMARY:Area 73 Convention
DESCRIPTION:2025_Area73_ConventionFlyer\nClick title for more information – including flyer.
URL:https://www.wvaadistrict7.org/event/area-73-convention/
LOCATION:Mountain Health Arena Conference Center\, One Civic Center Plaza\, Huntington\, WV\, 25701\, United States
END:VEVENT
BEGIN:VEVENT
DTSTART;TZID=America/New_York:20250719T180000
DTEND;TZID=America/New_York:20250719T210000
DTSTAMP:20260423T193337
CREATED:20250524T165248Z
LAST-MODIFIED:20250524T165248Z
UID:3777-1752948000-1752958800@www.wvaadistrict7.org
SUMMARY:We All Belong & Trudgers Cookout
DESCRIPTION:Trudgers & We All Belong cookout 7-19-2025\nClick title for more information – including flyer.
URL:https://www.wvaadistrict7.org/event/we-all-belong-trudgers-cookout/
LOCATION:Quiet Dell United Methodist Church\, 96 Trinity Rd\, Mt. Clare\, WV\, 26408\, United States
END:VEVENT
BEGIN:VEVENT
DTSTART;TZID=America/New_York:20250705T180000
DTEND;TZID=America/New_York:20250705T210000
DTSTAMP:20260423T193337
CREATED:20250524T171950Z
LAST-MODIFIED:20250524T171950Z
UID:3800-1751738400-1751749200@www.wvaadistrict7.org
SUMMARY:Dysfunction Junction Bonfire
DESCRIPTION:Bonfire Flyer for Summer 2025\nClick title for more information – including flyer.
URL:https://www.wvaadistrict7.org/event/dysfunction-junction-bonfire-2/
LOCATION:Dysfunction Junction\, 28844 Seneca Trail\, Valley Head\, WV\, 26294\, United States
END:VEVENT
BEGIN:VEVENT
DTSTART;TZID=America/New_York:20250705T120000
DTEND;TZID=America/New_York:20250705T150000
DTSTAMP:20260423T193337
CREATED:20250703T144612Z
LAST-MODIFIED:20250703T144612Z
UID:3853-1751716800-1751727600@www.wvaadistrict7.org
SUMMARY:Picnic in the Park
DESCRIPTION:Goodfella's Picnic flyer\nClick on title above to see flyer.
URL:https://www.wvaadistrict7.org/event/picnic-in-the-park/
LOCATION:VA Park:  Osborn Shelter\, 2 Veterans Memorial Drive\, Clarksburg\, WV\, 26301\, United States
END:VEVENT
BEGIN:VEVENT
DTSTART;TZID=America/New_York:20250629T140000
DTEND;TZID=America/New_York:20250629T160000
DTSTAMP:20260423T193337
CREATED:20250523T204614Z
LAST-MODIFIED:20250523T204614Z
UID:3769-1751205600-1751212800@www.wvaadistrict7.org
SUMMARY:District Meeting
DESCRIPTION:Our Area Delegate will be giving his report on the General Service Conference following the meeting. \nHosted by We All Belong.
URL:https://www.wvaadistrict7.org/event/district-meeting/
LOCATION:Quiet Dell United Methodist Church\, 96 Trinity Rd\, Mt. Clare\, WV\, 26408\, United States
END:VEVENT
BEGIN:VEVENT
DTSTART;TZID=America/New_York:20250628T123000
DTEND;TZID=America/New_York:20250628T140000
DTSTAMP:20260423T193337
CREATED:20250523T205207Z
LAST-MODIFIED:20250524T164622Z
UID:3774-1751113800-1751119200@www.wvaadistrict7.org
SUMMARY:Fall Assembly Agenda Planning Meeting
DESCRIPTION:Fall Agenda Planning Meeting\nClick on title for more information – including flyer.
URL:https://www.wvaadistrict7.org/event/fall-assembly-agenda-planning-meeting/
LOCATION:Zoom
END:VEVENT
BEGIN:VEVENT
DTSTART;TZID=America/New_York:20250622T090000
DTEND;TZID=America/New_York:20250622T143000
DTSTAMP:20260423T193337
CREATED:20250523T204901Z
LAST-MODIFIED:20250523T204901Z
UID:3771-1750582800-1750602600@www.wvaadistrict7.org
SUMMARY:Upshur Uphill Picnic
DESCRIPTION:2025 Upshur Uphill picnic\nClick on title to see more information – including flyer.
URL:https://www.wvaadistrict7.org/event/upshur-uphill-picnic/
LOCATION:Buckhannon Upshur Recreation Park
END:VEVENT
BEGIN:VEVENT
DTSTART;TZID=America/New_York:20250621T120000
DTEND;TZID=America/New_York:20250621T150000
DTSTAMP:20260423T193337
CREATED:20250523T203746Z
LAST-MODIFIED:20250523T204107Z
UID:3764-1750507200-1750518000@www.wvaadistrict7.org
SUMMARY:Elkins Group Picnic
DESCRIPTION:Picnic Flyer 25\nClick on title for more information – including the flyer.
URL:https://www.wvaadistrict7.org/event/elkins-group-picnic/
LOCATION:Elkins City Park\, 450 Randolph Ave. (shelter behind Davis Memorial Presbyterian Church)\, Elkins\, WV\, 26241\, United States
END:VEVENT
BEGIN:VEVENT
DTSTART;TZID=America/New_York:20250614T160000
DTEND;TZID=America/New_York:20250614T170000
DTSTAMP:20260423T193337
CREATED:20250525T161542Z
LAST-MODIFIED:20250525T161815Z
UID:3825-1749916800-1749920400@www.wvaadistrict7.org
SUMMARY:2026 Fall Assembly Planning Meeting
DESCRIPTION:2026-Fall-Assembly-planning-flyer-no-tentative-dates\nClick on title for more information – including flyer. \nEmail someone on the committee for the Zoom information.
URL:https://www.wvaadistrict7.org/event/2026-fall-assembly-planning-meeting/
LOCATION:Zoom
END:VEVENT
BEGIN:VEVENT
DTSTART;TZID=America/New_York:20250607T180000
DTEND;TZID=America/New_York:20250607T210000
DTSTAMP:20260423T193337
CREATED:20250523T203038Z
LAST-MODIFIED:20250523T203458Z
UID:3749-1749319200-1749330000@www.wvaadistrict7.org
SUMMARY:Dysfunction Junction Bonfire
DESCRIPTION:Bonfire Flyer for Summer 2025\nClick above to see more information – including the flyer.
URL:https://www.wvaadistrict7.org/event/dysfunction-junction-bonfire/
LOCATION:Dysfunction Junction\, 28844 Seneca Trail\, Valley Head\, WV\, 26294\, United States
END:VEVENT
BEGIN:VEVENT
DTSTART;TZID=America/New_York:20250607T110000
DTEND;TZID=America/New_York:20250607T130000
DTSTAMP:20260423T193337
CREATED:20250525T153030Z
LAST-MODIFIED:20250525T154037Z
UID:3820-1749294000-1749301200@www.wvaadistrict7.org
SUMMARY:Sponsorship Workshop
DESCRIPTION:service-workshop-flyer-6-7-2025\nClick title for more information – including flyer.
URL:https://www.wvaadistrict7.org/event/sponsorship-workshop/
LOCATION:Quiet Dell United Methodist Church\, 96 Trinity Rd\, Mt. Clare\, WV\, 26408\, United States
END:VEVENT
BEGIN:VEVENT
DTSTART;TZID=America/New_York:20230611T090000
DTEND;TZID=America/New_York:20230611T140000
DTSTAMP:20260423T193337
CREATED:20230404T211601Z
LAST-MODIFIED:20230404T211601Z
UID:3681-1686474000-1686492000@www.wvaadistrict7.org
SUMMARY:Upshur Uphill Anniversary Dinner
DESCRIPTION:2023 picnic
URL:https://www.wvaadistrict7.org/event/upshur-uphill-anniversary-dinner/
END:VEVENT
BEGIN:VEVENT
DTSTART;TZID=America/New_York:20230324T203000
DTEND;TZID=America/New_York:20230326T120000
DTSTAMP:20260423T193337
CREATED:20220827T130249Z
LAST-MODIFIED:20220827T130607Z
UID:3585-1679689800-1679832000@www.wvaadistrict7.org
SUMMARY:2023 Spring Assembly
DESCRIPTION:2023-Spring Assembly Flyer
URL:https://www.wvaadistrict7.org/event/3585/
LOCATION:Lakeview Resort\, One Lakeview Drive\, Morgantown\, WV\, 26508
END:VEVENT
BEGIN:VEVENT
DTSTART;TZID=America/New_York:20221217T173000
DTEND;TZID=America/New_York:20221217T213000
DTSTAMP:20260423T193337
CREATED:20221031T144436Z
LAST-MODIFIED:20221031T144436Z
UID:3637-1671298200-1671312600@www.wvaadistrict7.org
SUMMARY:We All Belong Christmas Dinner
DESCRIPTION:Gather at 5:30\, eat at 6:30\, and speaker at 8:00. Speaker is Adrain from Ritchie County.
URL:https://www.wvaadistrict7.org/event/we-all-belong-christmas-dinner/
LOCATION:Quiet Dell United Methodist Church\, 96 Trinity Rd\, Mt. Clare\, WV\, 26408\, United States
END:VEVENT
BEGIN:VEVENT
DTSTART;TZID=America/New_York:20221216T180000
DTEND;TZID=America/New_York:20221216T210000
DTSTAMP:20260423T193337
CREATED:20221031T145409Z
LAST-MODIFIED:20221031T145409Z
UID:3639-1671213600-1671224400@www.wvaadistrict7.org
SUMMARY:Upshur Uphill Christmas Dinner
DESCRIPTION:Gather at 6\, Eat at 7\, Speaker at 8.
URL:https://www.wvaadistrict7.org/event/upshur-uphill-christmas-dinner-2/
LOCATION:Chapel Hill United Methodist Church\, 88 South Kanawha Street\, Buckhannon\, WV
END:VEVENT
BEGIN:VEVENT
DTSTART;TZID=America/New_York:20220925T140000
DTEND;TZID=America/New_York:20220925T150000
DTSTAMP:20260423T193337
CREATED:20220914T122223Z
LAST-MODIFIED:20220914T122223Z
UID:3610-1664114400-1664118000@www.wvaadistrict7.org
SUMMARY:District 7 Monthly Meeting
DESCRIPTION:
URL:https://www.wvaadistrict7.org/event/district-7-monthly-meeting/
LOCATION:St. Mark’s Lutheran Church\, 1766 Milford Street\, Clarksburg\, WV\, 26301
END:VEVENT
END:VCALENDAR