BEGIN:VCALENDAR
VERSION:2.0
PRODID:-//WV District 7 - ECPv6.15.18//NONSGML v1.0//EN
CALSCALE:GREGORIAN
METHOD:PUBLISH
X-WR-CALNAME:WV District 7
X-ORIGINAL-URL:https://www.wvaadistrict7.org
X-WR-CALDESC:Events for WV District 7
REFRESH-INTERVAL;VALUE=DURATION:PT1H
X-Robots-Tag:noindex
X-PUBLISHED-TTL:PT1H
BEGIN:VTIMEZONE
TZID:America/New_York
BEGIN:DAYLIGHT
TZOFFSETFROM:-0500
TZOFFSETTO:-0400
TZNAME:EDT
DTSTART:20170312T070000
END:DAYLIGHT
BEGIN:STANDARD
TZOFFSETFROM:-0400
TZOFFSETTO:-0500
TZNAME:EST
DTSTART:20171105T060000
END:STANDARD
BEGIN:DAYLIGHT
TZOFFSETFROM:-0500
TZOFFSETTO:-0400
TZNAME:EDT
DTSTART:20180311T070000
END:DAYLIGHT
BEGIN:STANDARD
TZOFFSETFROM:-0400
TZOFFSETTO:-0500
TZNAME:EST
DTSTART:20181104T060000
END:STANDARD
BEGIN:DAYLIGHT
TZOFFSETFROM:-0500
TZOFFSETTO:-0400
TZNAME:EDT
DTSTART:20190310T070000
END:DAYLIGHT
BEGIN:STANDARD
TZOFFSETFROM:-0400
TZOFFSETTO:-0500
TZNAME:EST
DTSTART:20191103T060000
END:STANDARD
BEGIN:DAYLIGHT
TZOFFSETFROM:-0500
TZOFFSETTO:-0400
TZNAME:EDT
DTSTART:20200308T070000
END:DAYLIGHT
BEGIN:STANDARD
TZOFFSETFROM:-0400
TZOFFSETTO:-0500
TZNAME:EST
DTSTART:20201101T060000
END:STANDARD
END:VTIMEZONE
BEGIN:VEVENT
DTSTART;VALUE=DATE:20190110
DTEND;VALUE=DATE:20190114
DTSTAMP:20260424T110228
CREATED:20181114T040825Z
LAST-MODIFIED:20181114T040825Z
UID:2937-1547161200-1547420399@www.wvaadistrict7.org
SUMMARY:Jackson’s Mill Winter Round-Up
DESCRIPTION:JM W2019 Flyer
URL:https://www.wvaadistrict7.org/event/jacksons-mill-winter-round-up/
LOCATION:OH
END:VEVENT
BEGIN:VEVENT
DTSTART;TZID=America/New_York:20190106T070000
DTEND;TZID=America/New_York:20190106T100000
DTSTAMP:20260424T110228
CREATED:20190105T060924Z
LAST-MODIFIED:20190105T060924Z
UID:2955-1546758000-1546768800@www.wvaadistrict7.org
SUMMARY:Sunday Morning Breakfast Meeting
DESCRIPTION:Buffet available at 8 am for purchase.  Speaker at 10 am.
URL:https://www.wvaadistrict7.org/event/sunday-morning-breakfast-meeting-8/
LOCATION:Steer Steakhouse\, 506 Market Place Mall\, Weston\, WV\, 26452\, United States
END:VEVENT
BEGIN:VEVENT
DTSTART;TZID=America/New_York:20181231T170000
DTEND;TZID=America/New_York:20181231T230000
DTSTAMP:20260424T110228
CREATED:20181114T031039Z
LAST-MODIFIED:20181114T031039Z
UID:2918-1546275600-1546297200@www.wvaadistrict7.org
SUMMARY:New Year’s Eve Party and Dance
DESCRIPTION:Meet at 6\, Eat at 7\, Speaker at 8.\nDance after Speaker from 9 to 12.
URL:https://www.wvaadistrict7.org/event/new-years-eve-party-and-dance/
LOCATION:Episcopal Parish House\, 123 S. 6th Street\, Clarksburg\, WV\, 26301
END:VEVENT
BEGIN:VEVENT
DTSTART;TZID=America/New_York:20181222T120000
DTEND;TZID=America/New_York:20181222T150000
DTSTAMP:20260424T110228
CREATED:20181217T025735Z
LAST-MODIFIED:20181217T025735Z
UID:2949-1545480000-1545490800@www.wvaadistrict7.org
SUMMARY:Belington Christmas Dinner
DESCRIPTION:Meet at 1. \nEat at 2. \nSpeaker at 3.
URL:https://www.wvaadistrict7.org/event/belington-christmas-dinner/
LOCATION:Belington Presbyterian Church\, 208 Sturmer Street\, Belington\, WV
END:VEVENT
BEGIN:VEVENT
DTSTART;TZID=America/New_York:20181214T170000
DTEND;TZID=America/New_York:20181214T200000
DTSTAMP:20260424T110228
CREATED:20181028T163540Z
LAST-MODIFIED:20181028T163540Z
UID:2895-1544806800-1544817600@www.wvaadistrict7.org
SUMMARY:Upshur Uphill Group’s Annual Christmas Dinner
DESCRIPTION:Christmas flyer2018
URL:https://www.wvaadistrict7.org/event/upshur-uphill-groups-annual-christmas-dinner/
LOCATION:First United Methodist Church-Upshur\, 52 S Florida St\, Buckhannon\, WV
END:VEVENT
BEGIN:VEVENT
DTSTART;TZID=America/New_York:20181209T130000
DTEND;TZID=America/New_York:20181209T140000
DTSTAMP:20260424T110228
CREATED:20181114T025740Z
LAST-MODIFIED:20181114T025740Z
UID:2912-1544360400-1544364000@www.wvaadistrict7.org
SUMMARY:GSR Meeting
DESCRIPTION:
URL:https://www.wvaadistrict7.org/event/gsr-meeting-7/
LOCATION:St. Patrick’s\, 224 Center Ave\, Weston\, WV\, 26452
END:VEVENT
BEGIN:VEVENT
DTSTART;TZID=America/New_York:20181206T163000
DTEND;TZID=America/New_York:20181206T193000
DTSTAMP:20260424T110228
CREATED:20181012T235448Z
LAST-MODIFIED:20181019T192006Z
UID:2880-1544113800-1544124600@www.wvaadistrict7.org
SUMMARY:Road to Recovery Christmas Dinner
DESCRIPTION:Lumberport Christmas Dinner 2018Lumberport Christmas Dinner 2018
URL:https://www.wvaadistrict7.org/event/road-to-recovery-christmas-dinner/
LOCATION:Lumberport United Methodist\, 100 Church Street\, Lumberport
END:VEVENT
BEGIN:VEVENT
DTSTART;TZID=America/New_York:20181202T070000
DTEND;TZID=America/New_York:20181202T100000
DTSTAMP:20260424T110228
CREATED:20180523T020004Z
LAST-MODIFIED:20180523T020157Z
UID:2771-1543734000-1543744800@www.wvaadistrict7.org
SUMMARY:Sunday Morning Breakfast Meeting
DESCRIPTION:Buffet available at 8 am for purchase.  Speaker at 10 am.
URL:https://www.wvaadistrict7.org/event/sunday-morning-breakfast-meeting-7/
LOCATION:Steer Steakhouse\, 506 Market Place Mall\, Weston\, WV\, 26452\, United States
END:VEVENT
BEGIN:VEVENT
DTSTART;TZID=America/New_York:20181130T170000
DTEND;TZID=America/New_York:20181202T120000
DTSTAMP:20260424T110228
CREATED:20181028T164205Z
LAST-MODIFIED:20181028T164205Z
UID:2899-1543597200-1543752000@www.wvaadistrict7.org
SUMMARY:4-State / DC Holiday Get Togther
DESCRIPTION:4 States DC
URL:https://www.wvaadistrict7.org/event/4-state-dc-holiday-get-togther/
LOCATION:Clarion Inn\, 711 Millwood Avenue\, Winchester\, VA\, 22061
END:VEVENT
BEGIN:VEVENT
DTSTART;TZID=America/New_York:20181122T110000
DTEND;TZID=America/New_York:20181122T140000
DTSTAMP:20260424T110228
CREATED:20181114T030415Z
LAST-MODIFIED:20181114T030415Z
UID:2916-1542884400-1542895200@www.wvaadistrict7.org
SUMMARY:Thanksgiving Dinner by Live and Let Live Group
DESCRIPTION:Gather at 1\, Eat at 2\, Speaker at 3. \nMembers of the church have been invited to attend.
URL:https://www.wvaadistrict7.org/event/thanksgiving-dinner-by-live-and-let-live-group/
LOCATION:Vincent Memorial Church\, 400 Indiana ave\, nutterfort wv\, Nutterfort\, WV
END:VEVENT
BEGIN:VEVENT
DTSTART;VALUE=DATE:20181115
DTEND;VALUE=DATE:20181119
DTSTAMP:20260424T110228
CREATED:20180502T030037Z
LAST-MODIFIED:20180523T030654Z
UID:2585-1542322800-1542581999@www.wvaadistrict7.org
SUMMARY:2018 Southeast Regional Forum
DESCRIPTION:A brochure for this event\, and registration information\, is posted on the aa.org website.  A link to that brochure is available here. \n 
URL:https://www.wvaadistrict7.org/event/2018-southeast-regional-forum/
LOCATION:Washington Dulles Airport Mariott\, 45020 Aviation Dr.\, Sterling\, VA\, 20166
END:VEVENT
BEGIN:VEVENT
DTSTART;TZID=America/New_York:20181104T070000
DTEND;TZID=America/New_York:20181104T100000
DTSTAMP:20260424T110228
CREATED:20180523T015922Z
LAST-MODIFIED:20180523T015922Z
UID:2769-1541314800-1541325600@www.wvaadistrict7.org
SUMMARY:Sunday Morning Breakfast Meeting
DESCRIPTION:Buffet available at 8 am for purchase.  Speaker at 10 am.
URL:https://www.wvaadistrict7.org/event/sunday-morning-breakfast-meeting-6/
LOCATION:Steer Steakhouse\, 506 Market Place Mall\, Weston\, WV\, 26452\, United States
END:VEVENT
BEGIN:VEVENT
DTSTART;TZID=America/New_York:20181102T130000
DTEND;TZID=America/New_York:20181104T110000
DTSTAMP:20260424T110228
CREATED:20181028T164618Z
LAST-MODIFIED:20181028T164618Z
UID:2904-1541163600-1541329200@www.wvaadistrict7.org
SUMMARY:2018 National Corrections Conference
DESCRIPTION:2018 NCC Flyer 180216NCC Roll Call Invitation
URL:https://www.wvaadistrict7.org/event/2018-national-corrections-conference-2/
LOCATION:Marriott at Sable Oaks\, 200 Sable Oaks Drive\, South Portland\, ME\, 04106
END:VEVENT
BEGIN:VEVENT
DTSTART;TZID=America/New_York:20181028T130000
DTEND;TZID=America/New_York:20181028T140000
DTSTAMP:20260424T110228
CREATED:20181005T162816Z
LAST-MODIFIED:20181005T162816Z
UID:2875-1540731600-1540735200@www.wvaadistrict7.org
SUMMARY:GSR meeting
DESCRIPTION:
URL:https://www.wvaadistrict7.org/event/gsr-meeting-6/
LOCATION:United Methodist Church\, 323 Johnson Ave\, Bridgeport\, WV\, 26330
END:VEVENT
BEGIN:VEVENT
DTSTART;TZID=America/New_York:20181007T070000
DTEND;TZID=America/New_York:20181007T100000
DTSTAMP:20260424T110228
CREATED:20180523T015840Z
LAST-MODIFIED:20180523T015840Z
UID:2767-1538895600-1538906400@www.wvaadistrict7.org
SUMMARY:Sunday Morning Breakfast Meeting
DESCRIPTION:Buffet available at 8 am for purchase.  Speaker at 10 am.
URL:https://www.wvaadistrict7.org/event/sunday-morning-breakfast-meeting-5/
LOCATION:Steer Steakhouse\, 506 Market Place Mall\, Weston\, WV\, 26452\, United States
END:VEVENT
BEGIN:VEVENT
DTSTART;VALUE=DATE:20181004
DTEND;VALUE=DATE:20181008
DTSTAMP:20260424T110228
CREATED:20180502T025843Z
LAST-MODIFIED:20180502T045230Z
UID:2582-1538694000-1538953199@www.wvaadistrict7.org
SUMMARY:Area 73 Fall Assembly 2018
DESCRIPTION:390a20_2c6a7000e5f64022b36e718cf41feec9
URL:https://www.wvaadistrict7.org/event/area-73-fall-assembly-2018/
LOCATION:Comfort Inn\, 1872 Edwin Miller Blvd\, Martinsburg\, WV\, 25404
END:VEVENT
BEGIN:VEVENT
DTSTART;TZID=America/New_York:20180930T130000
DTEND;TZID=America/New_York:20180930T140000
DTSTAMP:20260424T110228
CREATED:20180917T023430Z
LAST-MODIFIED:20180917T023430Z
UID:2848-1538312400-1538316000@www.wvaadistrict7.org
SUMMARY:GSR Meeting
DESCRIPTION:
URL:https://www.wvaadistrict7.org/event/gsr-meeting-5/
LOCATION:First United Methodist Church-Upshur\, 52 S Florida St\, Buckhannon\, WV
END:VEVENT
BEGIN:VEVENT
DTSTART;TZID=America/New_York:20180929T110000
DTEND;TZID=America/New_York:20180929T140000
DTSTAMP:20260424T110228
CREATED:20180820T194418Z
LAST-MODIFIED:20180820T194418Z
UID:2845-1538218800-1538229600@www.wvaadistrict7.org
SUMMARY:Spaghetti Dinner
DESCRIPTION:Meet at 12. \nEat at 1. \nSpeaker at 2.
URL:https://www.wvaadistrict7.org/event/spaghetti-dinner/
LOCATION:Vincent Memorial Church\, 400 Indiana ave\, nutterfort wv\, Nutterfort\, WV
END:VEVENT
BEGIN:VEVENT
DTSTART;TZID=America/New_York:20180923T110000
DTEND;TZID=America/New_York:20180923T140000
DTSTAMP:20260424T110228
CREATED:20180716T024317Z
LAST-MODIFIED:20180718T130054Z
UID:2828-1537700400-1537711200@www.wvaadistrict7.org
SUMMARY:District 7 Anniversary Dinner
DESCRIPTION:Dist 7 ann dinner2018
URL:https://www.wvaadistrict7.org/event/district-7-anniversary-dinner/
LOCATION:Chapel Hill United Methodist Church\, 88 South Kanawha Street\, Buckhannon\, WV
END:VEVENT
BEGIN:VEVENT
DTSTART;VALUE=DATE:20180920
DTEND;VALUE=DATE:20180924
DTSTAMP:20260424T110228
CREATED:20180523T024445Z
LAST-MODIFIED:20180523T024621Z
UID:2776-1537484400-1537743599@www.wvaadistrict7.org
SUMMARY:WVCYPAA IV 2018
DESCRIPTION:WVCYPAA\nWest Virginia Conference by Young People in AA website available here.
URL:https://www.wvaadistrict7.org/event/wvcypaa-iv-2018/
LOCATION:Holiday Inn & Suites\, 400 2nd Ave SW\, South Charleston\, WV\, 25303
END:VEVENT
BEGIN:VEVENT
DTSTART;TZID=America/New_York:20180909T120000
DTEND;TZID=America/New_York:20180909T150000
DTSTAMP:20260424T110228
CREATED:20180531T112612Z
LAST-MODIFIED:20180531T112612Z
UID:2800-1536494400-1536505200@www.wvaadistrict7.org
SUMMARY:District 16 Fellowship in Action Picnic
DESCRIPTION:District 16 Fellowship in Action Picnic
URL:https://www.wvaadistrict7.org/event/district-16-fellowship-in-action-picnic/
LOCATION:Marilla Park\, Morgantown\, E Brockway Ave\, Morgantown
END:VEVENT
BEGIN:VEVENT
DTSTART;TZID=America/New_York:20180908T170000
DTEND;TZID=America/New_York:20180908T200000
DTSTAMP:20260424T110228
CREATED:20180523T014549Z
LAST-MODIFIED:20180523T014549Z
UID:2757-1536426000-1536436800@www.wvaadistrict7.org
SUMMARY:Campfire Meeting
DESCRIPTION:Campfire Meeting Flyer.ppt
URL:https://www.wvaadistrict7.org/event/campfire-meeting-4/
LOCATION:Joe’s house\, 1465 Stevens Run Road\, Lost creek\, WV
END:VEVENT
BEGIN:VEVENT
DTSTART;TZID=America/New_York:20180902T070000
DTEND;TZID=America/New_York:20180902T100000
DTSTAMP:20260424T110228
CREATED:20180523T015758Z
LAST-MODIFIED:20180523T015758Z
UID:2765-1535871600-1535882400@www.wvaadistrict7.org
SUMMARY:Sunday Morning Breakfast Meeting
DESCRIPTION:Buffet available at 8 am for purchase.  Speaker at 10 am.
URL:https://www.wvaadistrict7.org/event/sunday-morning-breakfast-meeting-4/
LOCATION:Steer Steakhouse\, 506 Market Place Mall\, Weston\, WV\, 26452\, United States
END:VEVENT
BEGIN:VEVENT
DTSTART;TZID=America/New_York:20180826T130000
DTEND;TZID=America/New_York:20180826T140000
DTSTAMP:20260424T110228
CREATED:20180727T210351Z
LAST-MODIFIED:20180727T210351Z
UID:2838-1535288400-1535292000@www.wvaadistrict7.org
SUMMARY:GSR Meeting
DESCRIPTION:
URL:https://www.wvaadistrict7.org/event/gsr-meeting-4/
LOCATION:Vincent Memorial Church\, 400 Indiana ave\, nutterfort wv\, Nutterfort\, WV
END:VEVENT
BEGIN:VEVENT
DTSTART;TZID=America/New_York:20180825T120000
DTEND;TZID=America/New_York:20180825T150000
DTSTAMP:20260424T110228
CREATED:20180502T024333Z
LAST-MODIFIED:20180502T024333Z
UID:2570-1535198400-1535209200@www.wvaadistrict7.org
SUMMARY:Laurel Mountain Happy Hour Group Anniversary Dinner
DESCRIPTION:Gather at 1. \nEat at 2. \nSpeaker at 3.
URL:https://www.wvaadistrict7.org/event/laurel-mountain-happy-hour-group-anniversary-dinner/
LOCATION:Belington Presbyterian Church\, 208 Sturmer Street\, Belington\, WV
END:VEVENT
BEGIN:VEVENT
DTSTART;VALUE=DATE:20180823
DTEND;VALUE=DATE:20180827
DTSTAMP:20260424T110228
CREATED:20180523T023120Z
LAST-MODIFIED:20180523T023120Z
UID:2773-1535065200-1535324399@www.wvaadistrict7.org
SUMMARY:23rd Annual Southeast Woman to Woman Conference
DESCRIPTION:Women to women
URL:https://www.wvaadistrict7.org/event/23rd-annual-southeast-woman-to-woman-conference/
LOCATION:Embassy Suites\, 300 Court Street\, Charleston\, WV\, 26301
END:VEVENT
BEGIN:VEVENT
DTSTART;TZID=America/New_York:20180811T170000
DTEND;TZID=America/New_York:20180811T200000
DTSTAMP:20260424T110228
CREATED:20180523T014456Z
LAST-MODIFIED:20180523T014456Z
UID:2755-1534006800-1534017600@www.wvaadistrict7.org
SUMMARY:Campfire Meeting
DESCRIPTION:Campfire Meeting Flyer.ppt
URL:https://www.wvaadistrict7.org/event/campfire-meeting-3/
LOCATION:Joe’s house\, 1465 Stevens Run Road\, Lost creek\, WV
END:VEVENT
BEGIN:VEVENT
DTSTART;TZID=America/New_York:20180811T113000
DTEND;TZID=America/New_York:20180811T123000
DTSTAMP:20260424T110228
CREATED:20180502T022141Z
LAST-MODIFIED:20180502T045338Z
UID:2563-1533987000-1533990600@www.wvaadistrict7.org
SUMMARY:Fall Assembly Agenda Meeting
DESCRIPTION:69408f_237a1b4f7cc84f1eacb63357c977f3f6Directions: Take I-79 Exit 62 to WV-4 Sutton/Gassaway.  Right onto WV-4 South for approximately 3.9 miles.  Take left onto 7th Street.  Church is on the left.
URL:https://www.wvaadistrict7.org/event/fall-assembly-agenda-meeting/
LOCATION:United Methodist Church\, 710 Braxton Street\, Gassaway\, WV
END:VEVENT
BEGIN:VEVENT
DTSTART;TZID=America/New_York:20180805T070000
DTEND;TZID=America/New_York:20180805T100000
DTSTAMP:20260424T110228
CREATED:20180523T015703Z
LAST-MODIFIED:20180523T015703Z
UID:2763-1533452400-1533463200@www.wvaadistrict7.org
SUMMARY:Sunday Morning Breakfast Meeting
DESCRIPTION:Buffet available at 8 am for purchase.  Speaker at 10 am.
URL:https://www.wvaadistrict7.org/event/sunday-morning-breakfast-meeting-3/
LOCATION:Steer Steakhouse\, 506 Market Place Mall\, Weston\, WV\, 26452\, United States
END:VEVENT
BEGIN:VEVENT
DTSTART;TZID=America/New_York:20180804T170000
DTEND;TZID=America/New_York:20180804T200000
DTSTAMP:20260424T110228
CREATED:20180523T015027Z
LAST-MODIFIED:20180523T015124Z
UID:2759-1533402000-1533412800@www.wvaadistrict7.org
SUMMARY:John Cycle Camp Meeting 2018
DESCRIPTION:First Saturday of each month in Valley Head \n  \nDirections:  Follow Rout 33 East to Elkins.  Take Route 219/250 South.  Fo through Mill Creek to Huttonsville.  Turn RIGHT onto US 219 South at the EXXON.  Go approximately 18 miles\, passing Valley Head and look for the driveway on the right with the AA sign.
URL:https://www.wvaadistrict7.org/event/john-cycle-camp-meeting-2018-2/
LOCATION:OH
END:VEVENT
END:VCALENDAR