BEGIN:VCALENDAR
VERSION:2.0
PRODID:-//WV District 7 - ECPv6.15.20//NONSGML v1.0//EN
CALSCALE:GREGORIAN
METHOD:PUBLISH
X-WR-CALNAME:WV District 7
X-ORIGINAL-URL:https://www.wvaadistrict7.org
X-WR-CALDESC:Events for WV District 7
REFRESH-INTERVAL;VALUE=DURATION:PT1H
X-Robots-Tag:noindex
X-PUBLISHED-TTL:PT1H
BEGIN:VTIMEZONE
TZID:America/New_York
BEGIN:DAYLIGHT
TZOFFSETFROM:-0500
TZOFFSETTO:-0400
TZNAME:EDT
DTSTART:20170312T070000
END:DAYLIGHT
BEGIN:STANDARD
TZOFFSETFROM:-0400
TZOFFSETTO:-0500
TZNAME:EST
DTSTART:20171105T060000
END:STANDARD
BEGIN:DAYLIGHT
TZOFFSETFROM:-0500
TZOFFSETTO:-0400
TZNAME:EDT
DTSTART:20180311T070000
END:DAYLIGHT
BEGIN:STANDARD
TZOFFSETFROM:-0400
TZOFFSETTO:-0500
TZNAME:EST
DTSTART:20181104T060000
END:STANDARD
BEGIN:DAYLIGHT
TZOFFSETFROM:-0500
TZOFFSETTO:-0400
TZNAME:EDT
DTSTART:20190310T070000
END:DAYLIGHT
BEGIN:STANDARD
TZOFFSETFROM:-0400
TZOFFSETTO:-0500
TZNAME:EST
DTSTART:20191103T060000
END:STANDARD
END:VTIMEZONE
BEGIN:VEVENT
DTSTART;TZID=America/New_York:20180602T110000
DTEND;TZID=America/New_York:20180602T140000
DTSTAMP:20260425T062700
CREATED:20180508T122635Z
LAST-MODIFIED:20180518T001253Z
UID:2643-1527937200-1527948000@www.wvaadistrict7.org
SUMMARY:District 12 Picnic
DESCRIPTION:Picnic 2018 district 12Map shows directions to conference center in the Park.   Picnic will be held in Shelter 3. \nFellowship at 12.  Food at 1. Speaker at 2. \n 
URL:https://www.wvaadistrict7.org/event/district-2-picnic/
LOCATION:Chief Logan State Park\, 1000 conference center drive\, WV
END:VEVENT
BEGIN:VEVENT
DTSTART;TZID=America/New_York:20180520T130000
DTEND;TZID=America/New_York:20180520T140000
DTSTAMP:20260425T062700
CREATED:20180501T040239Z
LAST-MODIFIED:20180502T105213Z
UID:2500-1526821200-1526824800@www.wvaadistrict7.org
SUMMARY:GSR Meeting
DESCRIPTION:
URL:https://www.wvaadistrict7.org/event/gsr-meeting/
LOCATION:Glenville Community Church\, 210 Walnut St\, Glenville\, Wv
END:VEVENT
END:VCALENDAR