BEGIN:VCALENDAR
VERSION:2.0
PRODID:-//WV District 7 - ECPv6.15.18//NONSGML v1.0//EN
CALSCALE:GREGORIAN
METHOD:PUBLISH
X-ORIGINAL-URL:https://www.wvaadistrict7.org
X-WR-CALDESC:Events for WV District 7
REFRESH-INTERVAL;VALUE=DURATION:PT1H
X-Robots-Tag:noindex
X-PUBLISHED-TTL:PT1H
BEGIN:VTIMEZONE
TZID:America/New_York
BEGIN:DAYLIGHT
TZOFFSETFROM:-0500
TZOFFSETTO:-0400
TZNAME:EDT
DTSTART:20250309T070000
END:DAYLIGHT
BEGIN:STANDARD
TZOFFSETFROM:-0400
TZOFFSETTO:-0500
TZNAME:EST
DTSTART:20251102T060000
END:STANDARD
BEGIN:DAYLIGHT
TZOFFSETFROM:-0500
TZOFFSETTO:-0400
TZNAME:EDT
DTSTART:20260308T070000
END:DAYLIGHT
BEGIN:STANDARD
TZOFFSETFROM:-0400
TZOFFSETTO:-0500
TZNAME:EST
DTSTART:20261101T060000
END:STANDARD
BEGIN:DAYLIGHT
TZOFFSETFROM:-0500
TZOFFSETTO:-0400
TZNAME:EDT
DTSTART:20270314T070000
END:DAYLIGHT
BEGIN:STANDARD
TZOFFSETFROM:-0400
TZOFFSETTO:-0500
TZNAME:EST
DTSTART:20271107T060000
END:STANDARD
END:VTIMEZONE
BEGIN:VEVENT
DTSTART;TZID=America/New_York:20260830T140000
DTEND;TZID=America/New_York:20260830T153000
DTSTAMP:20260423T175549
CREATED:20260402T152403Z
LAST-MODIFIED:20260402T152503Z
UID:4147-1788098400-1788103800@www.wvaadistrict7.org
SUMMARY:District Meeting
DESCRIPTION:Hosted by Central WV Wednesday Night Group
URL:https://www.wvaadistrict7.org/event/district-meeting-14/
LOCATION:St. Mark’s Lutheran Church\, 1766 Milford Street\, Clarksburg\, WV\, 26301
END:VEVENT
BEGIN:VEVENT
DTSTART;TZID=America/New_York:20260905T180000
DTEND;TZID=America/New_York:20260905T210000
DTSTAMP:20260423T175549
CREATED:20260314T192439Z
LAST-MODIFIED:20260314T192439Z
UID:4082-1788631200-1788642000@www.wvaadistrict7.org
SUMMARY:Dysfunction Junction Bonfire
DESCRIPTION:Download flyer here.  \nBonfire Flyer for Summer 2026
URL:https://www.wvaadistrict7.org/event/dysfunction-junction-bonfire-10/
LOCATION:Dysfunction Junction\, 28844 Seneca Trail\, Valley Head\, WV\, 26294\, United States
END:VEVENT
BEGIN:VEVENT
DTSTART;TZID=America/New_York:20260911T150000
DTEND;TZID=America/New_York:20260913T110000
DTSTAMP:20260423T175549
CREATED:20260320T163349Z
LAST-MODIFIED:20260320T163349Z
UID:4103-1789138800-1789297200@www.wvaadistrict7.org
SUMMARY:2026 Fall Assembly
DESCRIPTION:Download flyer here. \n2026 Fall Assembly flyer
URL:https://www.wvaadistrict7.org/event/2026-fall-assembly/
LOCATION:Wingate by Wyndham Elkins\, 830 Harrison Avenue\, Elkins\, WV\, 26241\, United States
END:VEVENT
BEGIN:VEVENT
DTSTART;TZID=America/New_York:20261003T180000
DTEND;TZID=America/New_York:20261003T210000
DTSTAMP:20260423T175549
CREATED:20260314T192552Z
LAST-MODIFIED:20260314T192552Z
UID:4084-1791050400-1791061200@www.wvaadistrict7.org
SUMMARY:Dysfunction Junction Bonfire
DESCRIPTION:Download flyer here. \nBonfire Flyer for Summer 2026
URL:https://www.wvaadistrict7.org/event/dysfunction-junction-bonfire-11/
LOCATION:Dysfunction Junction\, 28844 Seneca Trail\, Valley Head\, WV\, 26294\, United States
END:VEVENT
END:VCALENDAR