BEGIN:VCALENDAR
VERSION:2.0
PRODID:-//WV District 7 - ECPv6.15.18//NONSGML v1.0//EN
CALSCALE:GREGORIAN
METHOD:PUBLISH
X-WR-CALNAME:WV District 7
X-ORIGINAL-URL:https://www.wvaadistrict7.org
X-WR-CALDESC:Events for WV District 7
REFRESH-INTERVAL;VALUE=DURATION:PT1H
X-Robots-Tag:noindex
X-PUBLISHED-TTL:PT1H
BEGIN:VTIMEZONE
TZID:America/New_York
BEGIN:DAYLIGHT
TZOFFSETFROM:-0500
TZOFFSETTO:-0400
TZNAME:EDT
DTSTART:20180311T070000
END:DAYLIGHT
BEGIN:STANDARD
TZOFFSETFROM:-0400
TZOFFSETTO:-0500
TZNAME:EST
DTSTART:20181104T060000
END:STANDARD
BEGIN:DAYLIGHT
TZOFFSETFROM:-0500
TZOFFSETTO:-0400
TZNAME:EDT
DTSTART:20190310T070000
END:DAYLIGHT
BEGIN:STANDARD
TZOFFSETFROM:-0400
TZOFFSETTO:-0500
TZNAME:EST
DTSTART:20191103T060000
END:STANDARD
BEGIN:DAYLIGHT
TZOFFSETFROM:-0500
TZOFFSETTO:-0400
TZNAME:EDT
DTSTART:20200308T070000
END:DAYLIGHT
BEGIN:STANDARD
TZOFFSETFROM:-0400
TZOFFSETTO:-0500
TZNAME:EST
DTSTART:20201101T060000
END:STANDARD
BEGIN:DAYLIGHT
TZOFFSETFROM:-0500
TZOFFSETTO:-0400
TZNAME:EDT
DTSTART:20210314T070000
END:DAYLIGHT
BEGIN:STANDARD
TZOFFSETFROM:-0400
TZOFFSETTO:-0500
TZNAME:EST
DTSTART:20211107T060000
END:STANDARD
END:VTIMEZONE
BEGIN:VEVENT
DTSTART;TZID=America/New_York:20191231T180000
DTEND;TZID=America/New_York:20200101T000000
DTSTAMP:20260423T194947
CREATED:20191109T011217Z
LAST-MODIFIED:20191109T011217Z
UID:3206-1577815200-1577836800@www.wvaadistrict7.org
SUMMARY:New Years Eve Party
DESCRIPTION:More details to come…
URL:https://www.wvaadistrict7.org/event/new-years-eve-party/
LOCATION:Episcopal Parish House\, 123 S. 6th Street\, Clarksburg\, WV\, 26301
END:VEVENT
BEGIN:VEVENT
DTSTART;TZID=America/New_York:20191220T180000
DTEND;TZID=America/New_York:20191220T210000
DTSTAMP:20260423T194947
CREATED:20191108T202650Z
LAST-MODIFIED:20191108T202650Z
UID:3201-1576864800-1576875600@www.wvaadistrict7.org
SUMMARY:Upshur Uphill Christmas Dinner
DESCRIPTION:Gather in at 6:00pm\nEat at 7:00pm\nSpeaker at 8:00pm\nHam\, Turkey\, and all the fixens\nFriends and family welcome!\nBring a side dish or dessert to share.\nFirst Methodist Church-52 South Florida Street-Buckhannon\nParking behind the church- dining hall down the sidewalk\, then left.
URL:https://www.wvaadistrict7.org/event/upshur-uphill-christmas-dinner/
LOCATION:First United Methodist Church-Upshur\, 52 S Florida St\, Buckhannon\, WV
END:VEVENT
BEGIN:VEVENT
DTSTART;TZID=America/New_York:20191220T180000
DTEND;TZID=America/New_York:20191220T210000
DTSTAMP:20260423T194947
CREATED:20191018T122305Z
LAST-MODIFIED:20191018T122305Z
UID:3191-1576864800-1576875600@www.wvaadistrict7.org
SUMMARY:Upshur Uphill Annual Christmas Dinner
DESCRIPTION:Christmas Dinner 2019
URL:https://www.wvaadistrict7.org/event/upshur-uphill-annual-christmas-dinner/
LOCATION:First United Methodist Church-Upshur\, 52 S Florida St\, Buckhannon\, WV
END:VEVENT
BEGIN:VEVENT
DTSTART;TZID=America/New_York:20191211T180000
DTEND;TZID=America/New_York:20191211T210000
DTSTAMP:20260423T194947
CREATED:20191108T200258Z
LAST-MODIFIED:20191108T200258Z
UID:3197-1576087200-1576098000@www.wvaadistrict7.org
SUMMARY:N Lewis County Christmas Dinner
DESCRIPTION:Meet at 6.  Eat at 7. Speaker at 8.
URL:https://www.wvaadistrict7.org/event/n-lewis-county-christmas-dinner/
LOCATION:Jane Lew Community Building\, Main Street\, Jane Lew\, WV
END:VEVENT
BEGIN:VEVENT
DTSTART;TZID=America/New_York:20191205T170000
DTEND;TZID=America/New_York:20191205T200000
DTSTAMP:20260423T194947
CREATED:20191108T195927Z
LAST-MODIFIED:20191108T203555Z
UID:3195-1575565200-1575576000@www.wvaadistrict7.org
SUMMARY:Lumberport Christmas Dinner
DESCRIPTION:Lumberport Christmas Flyer-2
URL:https://www.wvaadistrict7.org/event/lumberport-christmas-dinner/
LOCATION:Lumberport United Methodist\, 100 Church Street\, Lumberport
END:VEVENT
BEGIN:VEVENT
DTSTART;TZID=America/New_York:20191116T120000
DTEND;TZID=America/New_York:20191116T150000
DTSTAMP:20260423T194947
CREATED:20191108T200455Z
LAST-MODIFIED:20191109T001943Z
UID:3199-1573905600-1573916400@www.wvaadistrict7.org
SUMMARY:Thanksgiving Dinner
DESCRIPTION:Meet at 12. Eat at 1. Speaker at 2.
URL:https://www.wvaadistrict7.org/event/thanksgiving-dinner/
LOCATION:Vincent Memorial Church\, 400 Indiana ave\, nutterfort wv\, Nutterfort\, WV
END:VEVENT
BEGIN:VEVENT
DTSTART;TZID=America/New_York:20191108T070000
DTEND;TZID=America/New_York:20191110T160000
DTSTAMP:20260423T194947
CREATED:20190204T031816Z
LAST-MODIFIED:20190204T031816Z
UID:2982-1573196400-1573401600@www.wvaadistrict7.org
SUMMARY:5th Southern States Alcoholics Anonymous Service Assembly
DESCRIPTION:2019 SS Service Assembly
URL:https://www.wvaadistrict7.org/event/5th-southern-states-alcoholics-anonymous-service-assembly/
LOCATION:Lake Junaluska Conference and Retreat Center\, 91 North Lakeshore Drive\, Lake Junaluska\, NC\, 28745
END:VEVENT
BEGIN:VEVENT
DTSTART;TZID=America/New_York:20191102T180000
DTEND;TZID=America/New_York:20191102T210000
DTSTAMP:20260423T194947
CREATED:20190424T014310Z
LAST-MODIFIED:20190424T014310Z
UID:3081-1572717600-1572728400@www.wvaadistrict7.org
SUMMARY:John Cycle Camp Meeting 2019
DESCRIPTION:First Saturday of each month in Valley Head \n  \nDirections:  Follow Rout 33 East to Elkins.  Take Route 219/250 South.  Fo through Mill Creek to Huttonsville.  Turn RIGHT onto US 219 South at the EXXON.  Go approximately 18 miles\, passing Valley Head and look for the driveway on the right with the AA sign
URL:https://www.wvaadistrict7.org/event/john-cycle-camp-meeting-2019-7/
LOCATION:WV
END:VEVENT
BEGIN:VEVENT
DTSTART;TZID=America/New_York:20191005T180000
DTEND;TZID=America/New_York:20191005T210000
DTSTAMP:20260423T194947
CREATED:20190424T014232Z
LAST-MODIFIED:20190424T014232Z
UID:3079-1570298400-1570309200@www.wvaadistrict7.org
SUMMARY:John Cycle Camp Meeting 2019
DESCRIPTION:First Saturday of each month in Valley Head \n  \nDirections:  Follow Rout 33 East to Elkins.  Take Route 219/250 South.  Fo through Mill Creek to Huttonsville.  Turn RIGHT onto US 219 South at the EXXON.  Go approximately 18 miles\, passing Valley Head and look for the driveway on the right with the AA sign
URL:https://www.wvaadistrict7.org/event/john-cycle-camp-meeting-2019-6/
LOCATION:WV
END:VEVENT
BEGIN:VEVENT
DTSTART;VALUE=DATE:20191003
DTEND;VALUE=DATE:20191007
DTSTAMP:20260423T194947
CREATED:20181114T041105Z
LAST-MODIFIED:20181114T041105Z
UID:2943-1570143600-1570402799@www.wvaadistrict7.org
SUMMARY:Jackson’s Mill Fall Roundup
DESCRIPTION:
URL:https://www.wvaadistrict7.org/event/jacksons-mill-fall-roundup/
LOCATION:WV
END:VEVENT
BEGIN:VEVENT
DTSTART;TZID=America/New_York:20190929T140000
DTEND;TZID=America/New_York:20190929T150000
DTSTAMP:20260423T194947
CREATED:20190907T003601Z
LAST-MODIFIED:20190907T003601Z
UID:3182-1569765600-1569769200@www.wvaadistrict7.org
SUMMARY:GSR Meeting
DESCRIPTION:
URL:https://www.wvaadistrict7.org/event/gsr-meeting-14/
LOCATION:St. Vincents\, 400 Indiana Ave\, Nutterfort\, WV
END:VEVENT
BEGIN:VEVENT
DTSTART;TZID=America/New_York:20190913T110000
DTEND;TZID=America/New_York:20190913T140000
DTSTAMP:20260423T194947
CREATED:20190716T000141Z
LAST-MODIFIED:20190716T000141Z
UID:3139-1568372400-1568383200@www.wvaadistrict7.org
SUMMARY:National Recovery Month 2019
DESCRIPTION:
URL:https://www.wvaadistrict7.org/event/national-recovery-month-2019/
LOCATION:Veterans Memorial Park\, W Virginia Ave 98\, Clarksburg\, WV
END:VEVENT
BEGIN:VEVENT
DTSTART;VALUE=DATE:20190913
DTEND;VALUE=DATE:20190916
DTSTAMP:20260423T194947
CREATED:20190312T011255Z
LAST-MODIFIED:20190312T011255Z
UID:3026-1568332800-1568591999@www.wvaadistrict7.org
SUMMARY:Area 73 Fall Assembly
DESCRIPTION:
URL:https://www.wvaadistrict7.org/event/area-73-fall-assembly/
LOCATION:Cedar Lakes Conference Center\, 82 FFA Drive\, Ripley\, WV\, 25271
END:VEVENT
BEGIN:VEVENT
DTSTART;TZID=America/New_York:20190907T180000
DTEND;TZID=America/New_York:20190907T210000
DTSTAMP:20260423T194947
CREATED:20190424T014044Z
LAST-MODIFIED:20190424T014044Z
UID:3077-1567879200-1567890000@www.wvaadistrict7.org
SUMMARY:John Cycle Camp Meeting 2019
DESCRIPTION:First Saturday of each month in Valley Head \n  \nDirections:  Follow Rout 33 East to Elkins.  Take Route 219/250 South.  Fo through Mill Creek to Huttonsville.  Turn RIGHT onto US 219 South at the EXXON.  Go approximately 18 miles\, passing Valley Head and look for the driveway on the right with the AA sign
URL:https://www.wvaadistrict7.org/event/john-cycle-camp-meeting-2019-5/
LOCATION:WV
END:VEVENT
BEGIN:VEVENT
DTSTART;TZID=America/New_York:20190907T120000
DTEND;TZID=America/New_York:20190907T160000
DTSTAMP:20260423T194947
CREATED:20190904T000859Z
LAST-MODIFIED:20190904T000859Z
UID:3175-1567857600-1567872000@www.wvaadistrict7.org
SUMMARY:Region 5 Get Together
DESCRIPTION:
URL:https://www.wvaadistrict7.org/event/region-5-get-together/
LOCATION:Quiet Dell United Methodist Church\, 96 Trinity Rd\, Mt. Clare\, WV\, 26408\, United States
END:VEVENT
BEGIN:VEVENT
DTSTART;TZID=America/New_York:20190901T080000
DTEND;TZID=America/New_York:20190901T110000
DTSTAMP:20260423T194947
CREATED:20190424T015941Z
LAST-MODIFIED:20190424T015941Z
UID:3095-1567324800-1567335600@www.wvaadistrict7.org
SUMMARY:Sunday Morning Breakfast Meeting
DESCRIPTION:Buffet available at 8 am for purchase.  Speaker at 10 am.
URL:https://www.wvaadistrict7.org/event/sunday-morning-breakfast-meeting-15/
LOCATION:Steer Steakhouse\, 506 Market Place Mall\, Weston\, WV\, 26452\, United States
END:VEVENT
BEGIN:VEVENT
DTSTART;TZID=America/New_York:20190824T120000
DTEND;TZID=America/New_York:20190824T150000
DTSTAMP:20260423T194947
CREATED:20190625T133348Z
LAST-MODIFIED:20190804T132101Z
UID:3132-1566648000-1566658800@www.wvaadistrict7.org
SUMMARY:Live and Let Live Spaghetti Dinner
DESCRIPTION:
URL:https://www.wvaadistrict7.org/event/live-and-let-live-spaghetti-dinner/
LOCATION:Vincent Memorial Church\, 400 Indiana ave\, nutterfort wv\, Nutterfort\, WV
END:VEVENT
BEGIN:VEVENT
DTSTART;TZID=America/New_York:20190823T070000
DTEND;TZID=America/New_York:20190825T160000
DTSTAMP:20260423T194947
CREATED:20190204T032449Z
LAST-MODIFIED:20190204T032534Z
UID:2988-1566543600-1566748800@www.wvaadistrict7.org
SUMMARY:24th Annual Southeast Woman to Woman Conference
DESCRIPTION:
URL:https://www.wvaadistrict7.org/event/24th-annual-southeast-woman-to-woman-conference/
LOCATION:The Florida Hotel and Conference Center\, 8001 S. Orange Blossom Trail\, Orlando\, FL\, 32809
END:VEVENT
BEGIN:VEVENT
DTSTART;TZID=America/New_York:20190818T120000
DTEND;TZID=America/New_York:20190818T140000
DTSTAMP:20260423T194947
CREATED:20190716T001808Z
LAST-MODIFIED:20190716T001808Z
UID:3149-1566129600-1566136800@www.wvaadistrict7.org
SUMMARY:District 4 Annual Picnic
DESCRIPTION:
URL:https://www.wvaadistrict7.org/event/district-4-annual-picnic/
LOCATION:North Bend State Park\, 202 North Bend Park Road\, Cairo\, WV\, 26338
END:VEVENT
BEGIN:VEVENT
DTSTART;TZID=America/New_York:20190810T180000
DTEND;TZID=America/New_York:20190810T210000
DTSTAMP:20260423T194947
CREATED:20190424T015032Z
LAST-MODIFIED:20190424T015032Z
UID:3089-1565460000-1565470800@www.wvaadistrict7.org
SUMMARY:Campfire Meeting
DESCRIPTION:Campfire Meeting Flyer.ppt
URL:https://www.wvaadistrict7.org/event/campfire-meeting-9/
LOCATION:Joe’s house\, 1465 Stevens Run Road\, Lost creek\, WV
END:VEVENT
BEGIN:VEVENT
DTSTART;TZID=America/New_York:20190804T080000
DTEND;TZID=America/New_York:20190804T110000
DTSTAMP:20260423T194947
CREATED:20190424T020100Z
LAST-MODIFIED:20190424T020100Z
UID:3097-1564905600-1564916400@www.wvaadistrict7.org
SUMMARY:Sunday Morning Breakfast Meeting
DESCRIPTION:Buffet available at 8 am for purchase.  Speaker at 10 am.
URL:https://www.wvaadistrict7.org/event/sunday-morning-breakfast-meeting-16/
LOCATION:Steer Steakhouse\, 506 Market Place Mall\, Weston\, WV\, 26452\, United States
END:VEVENT
BEGIN:VEVENT
DTSTART;TZID=America/New_York:20190803T180000
DTEND;TZID=America/New_York:20190803T210000
DTSTAMP:20260423T194947
CREATED:20190424T013955Z
LAST-MODIFIED:20190424T013955Z
UID:3075-1564855200-1564866000@www.wvaadistrict7.org
SUMMARY:John Cycle Camp Meeting 2019
DESCRIPTION:First Saturday of each month in Valley Head \n  \nDirections:  Follow Rout 33 East to Elkins.  Take Route 219/250 South.  Fo through Mill Creek to Huttonsville.  Turn RIGHT onto US 219 South at the EXXON.  Go approximately 18 miles\, passing Valley Head and look for the driveway on the right with the AA sign
URL:https://www.wvaadistrict7.org/event/john-cycle-camp-meeting-2019-4/
LOCATION:WV
END:VEVENT
BEGIN:VEVENT
DTSTART;TZID=America/New_York:20190803T110000
DTEND;TZID=America/New_York:20190803T133000
DTSTAMP:20260423T194947
CREATED:20190716T003447Z
LAST-MODIFIED:20190716T003447Z
UID:3157-1564830000-1564839000@www.wvaadistrict7.org
SUMMARY:District 2 Picnic
DESCRIPTION:
URL:https://www.wvaadistrict7.org/event/district-2-picnic-2/
LOCATION:WV
END:VEVENT
BEGIN:VEVENT
DTSTART;TZID=America/New_York:20190802T170000
DTEND;TZID=America/New_York:20190804T200000
DTSTAMP:20260423T194947
CREATED:20190618T003809Z
LAST-MODIFIED:20190618T003826Z
UID:3124-1564765200-1564948800@www.wvaadistrict7.org
SUMMARY:VAC Convention
DESCRIPTION:
URL:https://www.wvaadistrict7.org/event/vac-convention/
LOCATION:DoubleTree Hotel Charlottesville\, 990 Hilton Heights Rd\, Charlottesville\, VA\, 22901
END:VEVENT
BEGIN:VEVENT
DTSTART;TZID=America/New_York:20190728T140000
DTEND;TZID=America/New_York:20190728T150000
DTSTAMP:20260423T194947
CREATED:20190715T235319Z
LAST-MODIFIED:20190715T235319Z
UID:3137-1564322400-1564326000@www.wvaadistrict7.org
SUMMARY:GSR Meeting
DESCRIPTION:
URL:https://www.wvaadistrict7.org/event/gsr-meeting-13/
LOCATION:Episcopal Parish House\, 123 S. 6th Street\, Clarksburg\, WV\, 26301
END:VEVENT
BEGIN:VEVENT
DTSTART;TZID=America/New_York:20190713T180000
DTEND;TZID=America/New_York:20190713T210000
DTSTAMP:20260423T194947
CREATED:20190424T014927Z
LAST-MODIFIED:20190424T015414Z
UID:3087-1563040800-1563051600@www.wvaadistrict7.org
SUMMARY:Campfire Meeting
DESCRIPTION:Campfire Meeting Flyer.ppt
URL:https://www.wvaadistrict7.org/event/campfire-meeting-8/
LOCATION:Joe’s house\, 1465 Stevens Run Road\, Lost creek\, WV
END:VEVENT
BEGIN:VEVENT
DTSTART;TZID=America/New_York:20190712T070000
DTEND;TZID=America/New_York:20190714T110000
DTSTAMP:20260423T194947
CREATED:20190204T030452Z
LAST-MODIFIED:20190204T030516Z
UID:2969-1562914800-1563102000@www.wvaadistrict7.org
SUMMARY:67th Annual Area 73 AA Convention
DESCRIPTION:2019 Area 73 Convention
URL:https://www.wvaadistrict7.org/event/67th-annual-area-73-aa-convention/
LOCATION:McLure Hotel\, 1200 Market Street\, Wheeling\, WV\, 26003
END:VEVENT
BEGIN:VEVENT
DTSTART;TZID=America/New_York:20190707T080000
DTEND;TZID=America/New_York:20190707T230000
DTSTAMP:20260423T194947
CREATED:20190424T015759Z
LAST-MODIFIED:20190424T015759Z
UID:3093-1562486400-1562540400@www.wvaadistrict7.org
SUMMARY:Sunday Morning Breakfast Meeting
DESCRIPTION:Buffet available at 8 am for purchase.  Speaker at 10 am.
URL:https://www.wvaadistrict7.org/event/sunday-morning-breakfast-meeting-14/
LOCATION:Steer Steakhouse\, 506 Market Place Mall\, Weston\, WV\, 26452\, United States
END:VEVENT
BEGIN:VEVENT
DTSTART;TZID=America/New_York:20190706T180000
DTEND;TZID=America/New_York:20190706T210000
DTSTAMP:20260423T194947
CREATED:20190424T013858Z
LAST-MODIFIED:20190424T013858Z
UID:3073-1562436000-1562446800@www.wvaadistrict7.org
SUMMARY:John Cycle Camp Meeting 2019
DESCRIPTION:First Saturday of each month in Valley Head \n  \nDirections:  Follow Rout 33 East to Elkins.  Take Route 219/250 South.  Fo through Mill Creek to Huttonsville.  Turn RIGHT onto US 219 South at the EXXON.  Go approximately 18 miles\, passing Valley Head and look for the driveway on the right with the AA sign
URL:https://www.wvaadistrict7.org/event/john-cycle-camp-meeting-2019-3/
LOCATION:WV
END:VEVENT
BEGIN:VEVENT
DTSTART;TZID=America/New_York:20190630T140000
DTEND;TZID=America/New_York:20190630T150000
DTSTAMP:20260423T194947
CREATED:20190624T132608Z
LAST-MODIFIED:20190624T132608Z
UID:3129-1561903200-1561906800@www.wvaadistrict7.org
SUMMARY:GSR Meeting
DESCRIPTION:
URL:https://www.wvaadistrict7.org/event/gsr-meeting-12/
LOCATION:Jane Lew Community Building\, Main Street\, Jane Lew\, WV
END:VEVENT
END:VCALENDAR